Workbook

Sheet Namelist
A1: Elena Vance
A2: Julian Cross
A3: Maya Lin
A4: Liam Sterling
A5: Sophia Thorne
A6: Caleb Rivera
A7: Nora Vance
A8: Ethan Brooks
A9: Chloe Bennett
A10: Lucas Hayes
A11: Clara Mercer
A12: Owen Gallagher
... A48: Rex Tex

Sheet Groups
A1: Name Sorter by Ian Tan and Claude
A3: Group size (persons per group): | B3: 5 | C3: Max Group Size: | D3: Max group size cap: | E3: 6
A4: Total names (from Sheet1): | B4: =COUNTA(Namelist!A:A) -> 48 | D4: Effective group size: | E4: =MIN(B3,E3) -> 5
A5: Number of groups: | B5: =ROUNDUP(B4/E4,0) -> 10 | D5: Base group size: | E5: =INT(B4/B5) -> 4
B6: Randomize order? | C6: TRUE | D6: Groups getting +1 extra: | E6: =MOD(B4,B5) -> 8
A7: Roster | D7: Row idx (k) | E7: Group # | F7: Position in group | G7: Name index | I7: Name | J7: Random key | K7: Shuffled rank | M7: Name in roster | N7: Found in roster (count) | O7: Found in Sheet1? (count) | Q7: Group # | R7: Group size | S7: Names before group | T7: Header row offset (k)
A8: {=IF(E8>$B$5,"",IF(F8=0,"Group "&E8,IF(F8<=INDEX($R$8:$R$57,E8),IF($C$6,INDEX($I$8:$I$57,MATCH(G8,$K$8:$K$57,0)),INDEX(Namelist!$A:$A,G8)),"")))} -> Group 1 | D8: =ROW()-8 -> 0 | E8: =MATCH(D8,$T$8:$T$57,1) -> 1 | F8: {=D8-INDEX($T$8:$T$57,E8)} -> 0 | G8: {=IF(F8=0,0,INDEX($S$8:$S$57,E8)+F8)} -> 0 | I8: {=IF(ROW()-7<=$B$4,INDEX(Namelist!$A:$A,ROW()-7),"")} -> Elena Vance | J8: =IF(I8="","",RAND()) -> 0.20580803 | K8: =IF(I8="","",_xlfn.RANK.EQ(J8,$J$8:$J$57,1)+COUNTIF($J$8:J8,J8)-1) -> 9 | M8: =IF(OR(A8="",LEFT(A8,6)="Group "),"",A8) | N8: =IF(I8="","",COUNTIF($M$8:$M$107,I8)) -> 1 | O8: =IF(M8="","",COUNTIF($I$8:$I$57,M8)) | Q8: =ROW()-7 -> 1 | R8: =IF(Q8>$B$5,"",IF(Q8<=$E$6,$E$5+1,$E$5)) -> 5 | S8: 0 | T8: =S8+(Q8-1) -> 0
A9: {=IF(E9>$B$5,"",IF(F9=0,"Group "&E9,IF(F9<=INDEX($R$8:$R$57,E9),IF($C$6,INDEX($I$8:$I$57,MATCH(G9,$K$8:$K$57,0)),INDEX(Namelist!$A:$A,G9)),"")))} -> Kaelen Voss | D9: =ROW()-8 -> 1 | E9: =MATCH(D9,$T$8:$T$57,1) -> 1 | F9: {=D9-INDEX($T$8:$T$57,E9)} -> 1 | G9: {=IF(F9=0,0,INDEX($S$8:$S$57,E9)+F9)} -> 1 | I9: {=IF(ROW()-7<=$B$4,INDEX(Namelist!$A:$A,ROW()-7),"")} -> Julian Cross | J9: =IF(I9="","",RAND()) -> 0.85297514 | K9: =IF(I9="","",_xlfn.RANK.EQ(J9,$J$8:$J$57,1)+COUNTIF($J$8:J9,J9)-1) -> 42 | M9: =IF(OR(A9="",LEFT(A9,6)="Group "),"",A9) -> Kaelen Voss | N9: =IF(I9="","",COUNTIF($M$8:$M$107,I9)) -> 1 | O9: =IF(M9="","",COUNTIF($I$8:$I$57,M9)) -> 1 | Q9: =ROW()-7 -> 2 | R9: =IF(Q9>$B$5,"",IF(Q9<=$E$6,$E$5+1,$E$5)) -> 5 | S9: =S8+IF(R8="",0,R8) -> 5 | T9: =S9+(Q9-1) -> 6
A10: {=IF(E10>$B$5,"",IF(F10=0,"Group "&E10,IF(F10<=INDEX($R$8:$R$57,E10),IF($C$6,INDEX($I$8:$I$57,MATCH(G10,$K$8:$K$57,0)),INDEX(Namelist!$A:$A,G10)),"")))} -> Audrey Hale | D10: =ROW()-8 -> 2 | E10: =MATCH(D10,$T$8:$T$57,1) -> 1 | F10: {=D10-INDEX($T$8:$T$57,E10)} -> 2 | G10: {=IF(F10=0,0,INDEX($S$8:$S$57,E10)+F10)} -> 2 | I10: {=IF(ROW()-7<=$B$4,INDEX(Namelist!$A:$A,ROW()-7),"")} -> Maya Lin | J10: =IF(I10="","",RAND()) -> 0.28664818 | K10: =IF(I10="","",_xlfn.RANK.EQ(J10,$J$8:$J$57,1)+COUNTIF($J$8:J10,J10)-1) -> 15 | M10: =IF(OR(A10="",LEFT(A10,6)="Group "),"",A10) -> Audrey Hale | N10: =IF(I10="","",COUNTIF($M$8:$M$107,I10)) -> 1 | O10: =IF(M10="","",COUNTIF($I$8:$I$57,M10)) -> 1 | Q10: =ROW()-7 -> 3 | R10: =IF(Q10>$B$5,"",IF(Q10<=$E$6,$E$5+1,$E$5)) -> 5 | S10: =S9+IF(R9="",0,R9) -> 10 | T10: =S10+(Q10-1) -> 12
A11: {=IF(E11>$B$5,"",IF(F11=0,"Group "&E11,IF(F11<=INDEX($R$8:$R$57,E11),IF($C$6,INDEX($I$8:$I$57,MATCH(G11,$K$8:$K$57,0)),INDEX(Namelist!$A:$A,G11)),"")))} -> Gemma Frost | D11: =ROW()-8 -> 3 | E11: =MATCH(D11,$T$8:$T$57,1) -> 1 | F11: {=D11-INDEX($T$8:$T$57,E11)} -> 3 | G11: {=IF(F11=0,0,INDEX($S$8:$S$57,E11)+F11)} -> 3 | I11: {=IF(ROW()-7<=$B$4,INDEX(Namelist!$A:$A,ROW()-7),"")} -> Liam Sterling | J11: =IF(I11="","",RAND()) -> 0.53836323 | K11: =IF(I11="","",_xlfn.RANK.EQ(J11,$J$8:$J$57,1)+COUNTIF($J$8:J11,J11)-1) -> 29 | M11: =IF(OR(A11="",LEFT(A11,6)="Group "),"",A11) -> Gemma Frost | N11: =IF(I11="","",COUNTIF($M$8:$M$107,I11)) -> 1 | O11: =IF(M11="","",COUNTIF($I$8:$I$57,M11)) -> 1 | Q11: =ROW()-7 -> 4 | R11: =IF(Q11>$B$5,"",IF(Q11<=$E$6,$E$5+1,$E$5)) -> 5 | S11: =S10+IF(R10="",0,R10) -> 15 | T11: =S11+(Q11-1) -> 18
A12: {=IF(E12>$B$5,"",IF(F12=0,"Group "&E12,IF(F12<=INDEX($R$8:$R$57,E12),IF($C$6,INDEX($I$8:$I$57,MATCH(G12,$K$8:$K$57,0)),INDEX(Namelist!$A:$A,G12)),"")))} -> Caleb Rivera | D12: =ROW()-8 -> 4 | E12: =MATCH(D12,$T$8:$T$57,1) -> 1 | F12: {=D12-INDEX($T$8:$T$57,E12)} -> 4 | G12: {=IF(F12=0,0,INDEX($S$8:$S$57,E12)+F12)} -> 4 | I12: {=IF(ROW()-7<=$B$4,INDEX(Namelist!$A:$A,ROW()-7),"")} -> Sophia Thorne | J12: =IF(I12="","",RAND()) -> 0.98082031 | K12: =IF(I12="","",_xlfn.RANK.EQ(J12,$J$8:$J$57,1)+COUNTIF($J$8:J12,J12)-1) -> 47 | M12: =IF(OR(A12="",LEFT(A12,6)="Group "),"",A12) -> Caleb Rivera | N12: =IF(I12="","",COUNTIF($M$8:$M$107,I12)) -> 1 | O12: =IF(M12="","",COUNTIF($I$8:$I$57,M12)) -> 1 | Q12: =ROW()-7 -> 5 | R12: =IF(Q12>$B$5,"",IF(Q12<=$E$6,$E$5+1,$E$5)) -> 5 | S12: =S11+IF(R11="",0,R11) -> 20 | T12: =S12+(Q12-1) -> 24
A13: {=IF(E13>$B$5,"",IF(F13=0,"Group "&E13,IF(F13<=INDEX($R$8:$R$57,E13),IF($C$6,INDEX($I$8:$I$57,MATCH(G13,$K$8:$K$57,0)),INDEX(Namelist!$A:$A,G13)),"")))} -> Sebastian Wright | D13: =ROW()-8 -> 5 | E13: =MATCH(D13,$T$8:$T$57,1) -> 1 | F13: {=D13-INDEX($T$8:$T$57,E13)} -> 5 | G13: {=IF(F13=0,0,INDEX($S$8:$S$57,E13)+F13)} -> 5 | I13: {=IF(ROW()-7<=$B$4,INDEX(Namelist!$A:$A,ROW()-7),"")} -> Caleb Rivera | J13: =IF(I13="","",RAND()) -> 0.076332222 | K13: =IF(I13="","",_xlfn.RANK.EQ(J13,$J$8:$J$57,1)+COUNTIF($J$8:J13,J13)-1) -> 4 | M13: =IF(OR(A13="",LEFT(A13,6)="Group "),"",A13) -> Sebastian Wright | N13: =IF(I13="","",COUNTIF($M$8:$M$107,I13)) -> 1 | O13: =IF(M13="","",COUNTIF($I$8:$I$57,M13)) -> 1 | Q13: =ROW()-7 -> 6 | R13: =IF(Q13>$B$5,"",IF(Q13<=$E$6,$E$5+1,$E$5)) -> 5 | S13: =S12+IF(R12="",0,R12) -> 25 | T13: =S13+(Q13-1) -> 30
A14: {=IF(E14>$B$5,"",IF(F14=0,"Group "&E14,IF(F14<=INDEX($R$8:$R$57,E14),IF($C$6,INDEX($I$8:$I$57,MATCH(G14,$K$8:$K$57,0)),INDEX(Namelist!$A:$A,G14)),"")))} -> Group 2 | D14: =ROW()-8 -> 6 | E14: =MATCH(D14,$T$8:$T$57,1) -> 2 | F14: {=D14-INDEX($T$8:$T$57,E14)} -> 0 | G14: {=IF(F14=0,0,INDEX($S$8:$S$57,E14)+F14)} -> 0 | I14: {=IF(ROW()-7<=$B$4,INDEX(Namelist!$A:$A,ROW()-7),"")} -> Nora Vance | J14: =IF(I14="","",RAND()) -> 0.70932012 | K14: =IF(I14="","",_xlfn.RANK.EQ(J14,$J$8:$J$57,1)+COUNTIF($J$8:J14,J14)-1) -> 35 | M14: =IF(OR(A14="",LEFT(A14,6)="Group "),"",A14) | N14: =IF(I14="","",COUNTIF($M$8:$M$107,I14)) -> 1 | O14: =IF(M14="","",COUNTIF($I$8:$I$57,M14)) | Q14: =ROW()-7 -> 7 | R14: =IF(Q14>$B$5,"",IF(Q14<=$E$6,$E$5+1,$E$5)) -> 5 | S14: =S13+IF(R13="",0,R13) -> 30 | T14: =S14+(Q14-1) -> 36
A15: {=IF(E15>$B$5,"",IF(F15=0,"Group "&E15,IF(F15<=INDEX($R$8:$R$57,E15),IF($C$6,INDEX($I$8:$I$57,MATCH(G15,$K$8:$K$57,0)),INDEX(Namelist!$A:$A,G15)),"")))} -> Aria Sterling | D15: =ROW()-8 -> 7 | E15: =MATCH(D15,$T$8:$T$57,1) -> 2 | F15: {=D15-INDEX($T$8:$T$57,E15)} -> 1 | G15: {=IF(F15=0,0,INDEX($S$8:$S$57,E15)+F15)} -> 6 | I15: {=IF(ROW()-7<=$B$4,INDEX(Namelist!$A:$A,ROW()-7),"")} -> Ethan Brooks | J15: =IF(I15="","",RAND()) -> 0.796286 | K15: =IF(I15="","",_xlfn.RANK.EQ(J15,$J$8:$J$57,1)+COUNTIF($J$8:J15,J15)-1) -> 39 | M15: =IF(OR(A15="",LEFT(A15,6)="Group "),"",A15) -> Aria Sterling | N15: =IF(I15="","",COUNTIF($M$8:$M$107,I15)) -> 1 | O15: =IF(M15="","",COUNTIF($I$8:$I$57,M15)) -> 1 | Q15: =ROW()-7 -> 8 | R15: =IF(Q15>$B$5,"",IF(Q15<=$E$6,$E$5+1,$E$5)) -> 5 | S15: =S14+IF(R14="",0,R14) -> 35 | T15: =S15+(Q15-1) -> 42
A16: {=IF(E16>$B$5,"",IF(F16=0,"Group "&E16,IF(F16<=INDEX($R$8:$R$57,E16),IF($C$6,INDEX($I$8:$I$57,MATCH(G16,$K$8:$K$57,0)),INDEX(Namelist!$A:$A,G16)),"")))} -> Gavin Ross | D16: =ROW()-8 -> 8 | E16: =MATCH(D16,$T$8:$T$57,1) -> 2 | F16: {=D16-INDEX($T$8:$T$57,E16)} -> 2 | G16: {=IF(F16=0,0,INDEX($S$8:$S$57,E16)+F16)} -> 7 | I16: {=IF(ROW()-7<=$B$4,INDEX(Namelist!$A:$A,ROW()-7),"")} -> Chloe Bennett | J16: =IF(I16="","",RAND()) -> 0.79831856 | K16: =IF(I16="","",_xlfn.RANK.EQ(J16,$J$8:$J$57,1)+COUNTIF($J$8:J16,J16)-1) -> 40 | M16: =IF(OR(A16="",LEFT(A16,6)="Group "),"",A16) -> Gavin Ross | N16: =IF(I16="","",COUNTIF($M$8:$M$107,I16)) -> 1 | O16: =IF(M16="","",COUNTIF($I$8:$I$57,M16)) -> 1 | Q16: =ROW()-7 -> 9 | R16: =IF(Q16>$B$5,"",IF(Q16<=$E$6,$E$5+1,$E$5)) -> 4 | S16: =S15+IF(R15="",0,R15) -> 40 | T16: =S16+(Q16-1) -> 48
A17: {=IF(E17>$B$5,"",IF(F17=0,"Group "&E17,IF(F17<=INDEX($R$8:$R$57,E17),IF($C$6,INDEX($I$8:$I$57,MATCH(G17,$K$8:$K$57,0)),INDEX(Namelist!$A:$A,G17)),"")))} -> Tristan Vance | D17: =ROW()-8 -> 9 | E17: =MATCH(D17,$T$8:$T$57,1) -> 2 | F17: {=D17-INDEX($T$8:$T$57,E17)} -> 3 | G17: {=IF(F17=0,0,INDEX($S$8:$S$57,E17)+F17)} -> 8 | I17: {=IF(ROW()-7<=$B$4,INDEX(Namelist!$A:$A,ROW()-7),"")} -> Lucas Hayes | J17: =IF(I17="","",RAND()) -> 0.34577378 | K17: =IF(I17="","",_xlfn.RANK.EQ(J17,$J$8:$J$57,1)+COUNTIF($J$8:J17,J17)-1) -> 18 | M17: =IF(OR(A17="",LEFT(A17,6)="Group "),"",A17) -> Tristan Vance | N17: =IF(I17="","",COUNTIF($M$8:$M$107,I17)) -> 1 | O17: =IF(M17="","",COUNTIF($I$8:$I$57,M17)) -> 1 | Q17: =ROW()-7 -> 10 | R17: =IF(Q17>$B$5,"",IF(Q17<=$E$6,$E$5+1,$E$5)) -> 4 | S17: =S16+IF(R16="",0,R16) -> 44 | T17: =S17+(Q17-1) -> 53
A18: {=IF(E18>$B$5,"",IF(F18=0,"Group "&E18,IF(F18<=INDEX($R$8:$R$57,E18),IF($C$6,INDEX($I$8:$I$57,MATCH(G18,$K$8:$K$57,0)),INDEX(Namelist!$A:$A,G18)),"")))} -> Elena Vance | D18: =ROW()-8 -> 10 | E18: =MATCH(D18,$T$8:$T$57,1) -> 2 | F18: {=D18-INDEX($T$8:$T$57,E18)} -> 4 | G18: {=IF(F18=0,0,INDEX($S$8:$S$57,E18)+F18)} -> 9 | I18: {=IF(ROW()-7<=$B$4,INDEX(Namelist!$A:$A,ROW()-7),"")} -> Clara Mercer | J18: =IF(I18="","",RAND()) -> 0.23137753 | K18: =IF(I18="","",_xlfn.RANK.EQ(J18,$J$8:$J$57,1)+COUNTIF($J$8:J18,J18)-1) -> 11 | M18: =IF(OR(A18="",LEFT(A18,6)="Group "),"",A18) -> Elena Vance | N18: =IF(I18="","",COUNTIF($M$8:$M$107,I18)) -> 1 | O18: =IF(M18="","",COUNTIF($I$8:$I$57,M18)) -> 1 | Q18: =ROW()-7 -> 11 | R18: =IF(Q18>$B$5,"",IF(Q18<=$E$6,$E$5+1,$E$5)) | S18: =S17+IF(R17="",0,R17) -> 48 | T18: =S18+(Q18-1) -> 58
A19: {=IF(E19>$B$5,"",IF(F19=0,"Group "&E19,IF(F19<=INDEX($R$8:$R$57,E19),IF($C$6,INDEX($I$8:$I$57,MATCH(G19,$K$8:$K$57,0)),INDEX(Namelist!$A:$A,G19)),"")))} -> Max Wong | D19: =ROW()-8 -> 11 | E19: =MATCH(D19,$T$8:$T$57,1) -> 2 | F19: {=D19-INDEX($T$8:$T$57,E19)} -> 5 | G19: {=IF(F19=0,0,INDEX($S$8:$S$57,E19)+F19)} -> 10 | I19: {=IF(ROW()-7<=$B$4,INDEX(Namelist!$A:$A,ROW()-7),"")} -> Owen Gallagher | J19: =IF(I19="","",RAND()) -> 0.2891933 | K19: =IF(I19="","",_xlfn.RANK.EQ(J19,$J$8:$J$57,1)+COUNTIF($J$8:J19,J19)-1) -> 16 | M19: =IF(OR(A19="",LEFT(A19,6)="Group "),"",A19) -> Max Wong | N19: =IF(I19="","",COUNTIF($M$8:$M$107,I19)) -> 1 | O19: =IF(M19="","",COUNTIF($I$8:$I$57,M19)) -> 1 | Q19: =ROW()-7 -> 12 | R19: =IF(Q19>$B$5,"",IF(Q19<=$E$6,$E$5+1,$E$5)) | S19: =S18+IF(R18="",0,R18) -> 48 | T19: =S19+(Q19-1) -> 59
A20: {=IF(E20>$B$5,"",IF(F20=0,"Group "&E20,IF(F20<=INDEX($R$8:$R$57,E20),IF($C$6,INDEX($I$8:$I$57,MATCH(G20,$K$8:$K$57,0)),INDEX(Namelist!$A:$A,G20)),"")))} -> Group 3 | D20: =ROW()-8 -> 12 | E20: =MATCH(D20,$T$8:$T$57,1) -> 3 | F20: {=D20-INDEX($T$8:$T$57,E20)} -> 0 | G20: {=IF(F20=0,0,INDEX($S$8:$S$57,E20)+F20)} -> 0 | I20: {=IF(ROW()-7<=$B$4,INDEX(Namelist!$A:$A,ROW()-7),"")} -> Zoe Chen | J20: =IF(I20="","",RAND()) -> 0.48938365 | K20: =IF(I20="","",_xlfn.RANK.EQ(J20,$J$8:$J$57,1)+COUNTIF($J$8:J20,J20)-1) -> 26 | M20: =IF(OR(A20="",LEFT(A20,6)="Group "),"",A20) | N20: =IF(I20="","",COUNTIF($M$8:$M$107,I20)) -> 1 | O20: =IF(M20="","",COUNTIF($I$8:$I$57,M20)) | Q20: =ROW()-7 -> 13 | R20: =IF(Q20>$B$5,"",IF(Q20<=$E$6,$E$5+1,$E$5)) | S20: =S19+IF(R19="",0,R19) -> 48 | T20: =S20+(Q20-1) -> 60
... A57: {=IF(E57>$B$5,"",IF(F57=0,"Group "&E57,IF(F57<=INDEX($R$8:$R$57,E57),IF($C$6,INDEX($I$8:$I$57,MATCH(G57,$K$8:$K$57,0)),INDEX(Namelist!$A:$A,G57)),"")))} -> Callum Reed | D57: =ROW()-8 -> 49 | E57: =MATCH(D57,$T$8:$T$57,1) -> 9 | F57: {=D57-INDEX($T$8:$T$57,E57)} -> 1 | G57: {=IF(F57=0,0,INDEX($S$8:$S$57,E57)+F57)} -> 41 | I57: {=IF(ROW()-7<=$B$4,INDEX(Namelist!$A:$A,ROW()-7),"")} | J57: =IF(I57="","",RAND()) | K57: =IF(I57="","",_xlfn.RANK.EQ(J57,$J$8:$J$57,1)+COUNTIF($J$8:J57,J57)-1) | M57: =IF(OR(A57="",LEFT(A57,6)="Group "),"",A57) -> Callum Reed | N57: =IF(I57="","",COUNTIF($M$8:$M$107,I57)) | O57: =IF(M57="","",COUNTIF($I$8:$I$57,M57)) -> 1 | Q57: =ROW()-7 -> 50 | R57: =IF(Q57>$B$5,"",IF(Q57<=$E$6,$E$5+1,$E$5)) | S57: =S56+IF(R56="",0,R56) -> 48 | T57: =S57+(Q57-1) -> 97
A58: {=IF(E58>$B$5,"",IF(F58=0,"Group "&E58,IF(F58<=INDEX($R$8:$R$57,E58),IF($C$6,INDEX($I$8:$I$57,MATCH(G58,$K$8:$K$57,0)),INDEX(Namelist!$A:$A,G58)),"")))} -> Julian Cross | D58: =ROW()-8 -> 50 | E58: =MATCH(D58,$T$8:$T$57,1) -> 9 | F58: {=D58-INDEX($T$8:$T$57,E58)} -> 2 | G58: {=IF(F58=0,0,INDEX($S$8:$S$57,E58)+F58)} -> 42 | M58: =IF(OR(A58="",LEFT(A58,6)="Group "),"",A58) -> Julian Cross | O58: =IF(M58="","",COUNTIF($I$8:$I$57,M58)) -> 1
A59: {=IF(E59>$B$5,"",IF(F59=0,"Group "&E59,IF(F59<=INDEX($R$8:$R$57,E59),IF($C$6,INDEX($I$8:$I$57,MATCH(G59,$K$8:$K$57,0)),INDEX(Namelist!$A:$A,G59)),"")))} -> Naomi Mercer | D59: =ROW()-8 -> 51 | E59: =MATCH(D59,$T$8:$T$57,1) -> 9 | F59: {=D59-INDEX($T$8:$T$57,E59)} -> 3 | G59: {=IF(F59=0,0,INDEX($S$8:$S$57,E59)+F59)} -> 43 | M59: =IF(OR(A59="",LEFT(A59,6)="Group "),"",A59) -> Naomi Mercer | O59: =IF(M59="","",COUNTIF($I$8:$I$57,M59)) -> 1
A60: {=IF(E60>$B$5,"",IF(F60=0,"Group "&E60,IF(F60<=INDEX($R$8:$R$57,E60),IF($C$6,INDEX($I$8:$I$57,MATCH(G60,$K$8:$K$57,0)),INDEX(Namelist!$A:$A,G60)),"")))} -> Aaron Finch | D60: =ROW()-8 -> 52 | E60: =MATCH(D60,$T$8:$T$57,1) -> 9 | F60: {=D60-INDEX($T$8:$T$57,E60)} -> 4 | G60: {=IF(F60=0,0,INDEX($S$8:$S$57,E60)+F60)} -> 44 | M60: =IF(OR(A60="",LEFT(A60,6)="Group "),"",A60) -> Aaron Finch | O60: =IF(M60="","",COUNTIF($I$8:$I$57,M60)) -> 1
A61: {=IF(E61>$B$5,"",IF(F61=0,"Group "&E61,IF(F61<=INDEX($R$8:$R$57,E61),IF($C$6,INDEX($I$8:$I$57,MATCH(G61,$K$8:$K$57,0)),INDEX(Namelist!$A:$A,G61)),"")))} -> Group 10 | D61: =ROW()-8 -> 53 | E61: =MATCH(D61,$T$8:$T$57,1) -> 10 | F61: {=D61-INDEX($T$8:$T$57,E61)} -> 0 | G61: {=IF(F61=0,0,INDEX($S$8:$S$57,E61)+F61)} -> 0 | M61: =IF(OR(A61="",LEFT(A61,6)="Group "),"",A61) | O61: =IF(M61="","",COUNTIF($I$8:$I$57,M61))
A62: {=IF(E62>$B$5,"",IF(F62=0,"Group "&E62,IF(F62<=INDEX($R$8:$R$57,E62),IF($C$6,INDEX($I$8:$I$57,MATCH(G62,$K$8:$K$57,0)),INDEX(Namelist!$A:$A,G62)),"")))} -> Stella Park | D62: =ROW()-8 -> 54 | E62: =MATCH(D62,$T$8:$T$57,1) -> 10 | F62: {=D62-INDEX($T$8:$T$57,E62)} -> 1 | G62: {=IF(F62=0,0,INDEX($S$8:$S$57,E62)+F62)} -> 45 | M62: =IF(OR(A62="",LEFT(A62,6)="Group "),"",A62) -> Stella Park | O62: =IF(M62="","",COUNTIF($I$8:$I$57,M62)) -> 1
A63: {=IF(E63>$B$5,"",IF(F63=0,"Group "&E63,IF(F63<=INDEX($R$8:$R$57,E63),IF($C$6,INDEX($I$8:$I$57,MATCH(G63,$K$8:$K$57,0)),INDEX(Namelist!$A:$A,G63)),"")))} -> Amara Brooks | D63: =ROW()-8 -> 55 | E63: =MATCH(D63,$T$8:$T$57,1) -> 10 | F63: {=D63-INDEX($T$8:$T$57,E63)} -> 2 | G63: {=IF(F63=0,0,INDEX($S$8:$S$57,E63)+F63)} -> 46 | M63: =IF(OR(A63="",LEFT(A63,6)="Group "),"",A63) -> Amara Brooks | O63: =IF(M63="","",COUNTIF($I$8:$I$57,M63)) -> 1
A64: {=IF(E64>$B$5,"",IF(F64=0,"Group "&E64,IF(F64<=INDEX($R$8:$R$57,E64),IF($C$6,INDEX($I$8:$I$57,MATCH(G64,$K$8:$K$57,0)),INDEX(Namelist!$A:$A,G64)),"")))} -> Sophia Thorne | D64: =ROW()-8 -> 56 | E64: =MATCH(D64,$T$8:$T$57,1) -> 10 | F64: {=D64-INDEX($T$8:$T$57,E64)} -> 3 | G64: {=IF(F64=0,0,INDEX($S$8:$S$57,E64)+F64)} -> 47 | M64: =IF(OR(A64="",LEFT(A64,6)="Group "),"",A64) -> Sophia Thorne | O64: =IF(M64="","",COUNTIF($I$8:$I$57,M64)) -> 1
A65: {=IF(E65>$B$5,"",IF(F65=0,"Group "&E65,IF(F65<=INDEX($R$8:$R$57,E65),IF($C$6,INDEX($I$8:$I$57,MATCH(G65,$K$8:$K$57,0)),INDEX(Namelist!$A:$A,G65)),"")))} -> Felix Montgomery | D65: =ROW()-8 -> 57 | E65: =MATCH(D65,$T$8:$T$57,1) -> 10 | F65: {=D65-INDEX($T$8:$T$57,E65)} -> 4 | G65: {=IF(F65=0,0,INDEX($S$8:$S$57,E65)+F65)} -> 48 | M65: =IF(OR(A65="",LEFT(A65,6)="Group "),"",A65) -> Felix Montgomery | O65: =IF(M65="","",COUNTIF($I$8:$I$57,M65)) -> 1
A66: {=IF(E66>$B$5,"",IF(F66=0,"Group "&E66,IF(F66<=INDEX($R$8:$R$57,E66),IF($C$6,INDEX($I$8:$I$57,MATCH(G66,$K$8:$K$57,0)),INDEX(Namelist!$A:$A,G66)),"")))} | D66: =ROW()-8 -> 58 | E66: =MATCH(D66,$T$8:$T$57,1) -> 11 | F66: {=D66-INDEX($T$8:$T$57,E66)} -> 0 | G66: {=IF(F66=0,0,INDEX($S$8:$S$57,E66)+F66)} -> 0 | M66: =IF(OR(A66="",LEFT(A66,6)="Group "),"",A66) | O66: =IF(M66="","",COUNTIF($I$8:$I$57,M66))
A67: {=IF(E67>$B$5,"",IF(F67=0,"Group "&E67,IF(F67<=INDEX($R$8:$R$57,E67),IF($C$6,INDEX($I$8:$I$57,MATCH(G67,$K$8:$K$57,0)),INDEX(Namelist!$A:$A,G67)),"")))} | D67: =ROW()-8 -> 59 | E67: =MATCH(D67,$T$8:$T$57,1) -> 12 | F67: {=D67-INDEX($T$8:$T$57,E67)} -> 0 | G67: {=IF(F67=0,0,INDEX($S$8:$S$57,E67)+F67)} -> 0 | M67: =IF(OR(A67="",LEFT(A67,6)="Group "),"",A67) | O67: =IF(M67="","",COUNTIF($I$8:$I$57,M67))
A68: {=IF(E68>$B$5,"",IF(F68=0,"Group "&E68,IF(F68<=INDEX($R$8:$R$57,E68),IF($C$6,INDEX($I$8:$I$57,MATCH(G68,$K$8:$K$57,0)),INDEX(Namelist!$A:$A,G68)),"")))} | D68: =ROW()-8 -> 60 | E68: =MATCH(D68,$T$8:$T$57,1) -> 13 | F68: {=D68-INDEX($T$8:$T$57,E68)} -> 0 | G68: {=IF(F68=0,0,INDEX($S$8:$S$57,E68)+F68)} -> 0 | M68: =IF(OR(A68="",LEFT(A68,6)="Group "),"",A68) | O68: =IF(M68="","",COUNTIF($I$8:$I$57,M68))
A69: {=IF(E69>$B$5,"",IF(F69=0,"Group "&E69,IF(F69<=INDEX($R$8:$R$57,E69),IF($C$6,INDEX($I$8:$I$57,MATCH(G69,$K$8:$K$57,0)),INDEX(Namelist!$A:$A,G69)),"")))} | D69: =ROW()-8 -> 61 | E69: =MATCH(D69,$T$8:$T$57,1) -> 14 | F69: {=D69-INDEX($T$8:$T$57,E69)} -> 0 | G69: {=IF(F69=0,0,INDEX($S$8:$S$57,E69)+F69)} -> 0 | M69: =IF(OR(A69="",LEFT(A69,6)="Group "),"",A69) | O69: =IF(M69="","",COUNTIF($I$8:$I$57,M69))
... A107: {=IF(E107>$B$5,"",IF(F107=0,"Group "&E107,IF(F107<=INDEX($R$8:$R$57,E107),IF($C$6,INDEX($I$8:$I$57,MATCH(G107,$K$8:$K$57,0)),INDEX(Namelist!$A:$A,G107)),"")))} | D107: =ROW()-8 -> 99 | E107: =MATCH(D107,$T$8:$T$57,1) -> 50 | F107: {=D107-INDEX($T$8:$T$57,E107)} -> 2 | G107: {=IF(F107=0,0,INDEX($S$8:$S$57,E107)+F107)} -> 50 | M107: =IF(OR(A107="",LEFT(A107,6)="Group "),"",A107) | O107: =IF(M107="","",COUNTIF($I$8:$I$57,M107))
A109: Verification
A110: Names in Sheet1 (original): | B110: =B4 -> 48
A111: Names placed in Groups: | B111: {=SUMPRODUCT(--(A8:A107<>""))-B5} -> 48
A112: Missing from Groups: | B112: =COUNTIF(N8:N57,0) -> 0
A113: Duplicated in Groups: | B113: =COUNTIF(N8:N57,">1") -> 0
A114: Unrecognized names in Groups: | B114: =COUNTIF(O8:O107,0) -> 0
A115: Overall status: | B115: =IF(AND(B111=B110,B112=0,B113=0,B114=0),"✓ ALL NAMES VERIFIED","✗ CHECK NEEDED") -> ✓ ALL NAMES VERIFIED
A116: Missing names: | B116: {=_xlfn.TEXTJOIN(", ",TRUE,IF(N8:N57=0,I8:I57,""))}
A117: Duplicated names: | B117: {=_xlfn.TEXTJOIN(", ",TRUE,IF(N8:N57>1,I8:I57,""))}
